BEGIN:VCALENDAR
VERSION:2.0
PRODID:-//Arnie's Ocean City Butcher Shop - ECPv4.9.3.2//NONSGML v1.0//EN
CALSCALE:GREGORIAN
METHOD:PUBLISH
X-WR-CALNAME:Arnie's Ocean City Butcher Shop
X-ORIGINAL-URL:https://arniesoc.com
X-WR-CALDESC:Events for Arnie's Ocean City Butcher Shop
BEGIN:VEVENT
DTSTART;VALUE=DATE:20160210
DTEND;VALUE=DATE:20170211
DTSTAMP:20260425T125359
CREATED:20160210T135210Z
LAST-MODIFIED:20160210T135210Z
UID:1436-1455062400-1486771199@arniesoc.com
SUMMARY:Vivamus eget nibh etiam cursus leo vel metus
DESCRIPTION:Quote meon an estimate et non interruptus stum tempus fugit espnto hiccup estrogen. Glorious baklava ex librus hup hey ad infinitum. \n
URL:https://arniesoc.com/event/nue-ipsum-priucibus-orci-luctus-et-ultrices-2/
ATTACH;FMTTYPE=image/jpeg:https://arniesoc.com/wp-content/uploads/2015/05/post-3.jpg
END:VEVENT
BEGIN:VEVENT
DTSTART;VALUE=DATE:20160212
DTEND;VALUE=DATE:20161213
DTSTAMP:20260425T125359
CREATED:20160210T122316Z
LAST-MODIFIED:20160210T122316Z
UID:1431-1455235200-1481587199@arniesoc.com
SUMMARY:Vivamus eget nibh etiam cursus leo vel metus
DESCRIPTION:Quote meon an estimate et non interruptus stum tempus fugit espnto hiccup estrogen. Glorious baklava ex librus hup hey ad infinitum. \n
URL:https://arniesoc.com/event/nue-ipsum-priucibus-orci-luctus-et-ultrices/
ATTACH;FMTTYPE=image/jpeg:https://arniesoc.com/wp-content/uploads/2016/02/event2.jpg
END:VEVENT
BEGIN:VEVENT
DTSTART;VALUE=DATE:20160218
DTEND;VALUE=DATE:20161211
DTSTAMP:20260425T125359
CREATED:20160210T121129Z
LAST-MODIFIED:20160210T121129Z
UID:1426-1455753600-1481414399@arniesoc.com
SUMMARY:Vivamus eget nibh etiam cursus leo vel metus
DESCRIPTION:Quote meon an estimate et non interruptus stum tempus fugit espnto hiccup estrogen. Glorious baklava ex librus hup hey ad infinitum. \n
URL:https://arniesoc.com/event/vivamus-eget-nibh-etiam-cursus-leo-vel-metus/
ATTACH;FMTTYPE=image/jpeg:https://arniesoc.com/wp-content/uploads/2016/02/event1.jpg
END:VEVENT
BEGIN:VEVENT
DTSTART;VALUE=DATE:20160310
DTEND;VALUE=DATE:20161211
DTSTAMP:20260425T125359
CREATED:20160210T122337Z
LAST-MODIFIED:20160210T122337Z
UID:1430-1457568000-1481414399@arniesoc.com
SUMMARY:Vestibulum ante ipsum primis in faucibus
DESCRIPTION:Quote meon an estimate et non interruptus stum tempus fugit espnto hiccup estrogen. Glorious baklava ex librus hup hey ad infinitum. \n
URL:https://arniesoc.com/event/vestibulum-ante-ipsum-primis-in-faucibus/
ATTACH;FMTTYPE=image/jpeg:https://arniesoc.com/wp-content/uploads/2016/02/event3.jpg
END:VEVENT
END:VCALENDAR